BEGIN:VCALENDAR
VERSION:2.0
PRODID:-//hacksw/handcal//NONSGML v1.0//EN
BEGIN:VEVENT
DTSTAMP:20260430T140000Z
DTSTART:20260430T140000Z
DTEND:20260430T160000Z
LOCATION:CDU-Kreisgeschäftsstelle Neumünster, Großflecken 54, Neumünster, 24534, Deutschland
SUMMARY:Bürgersprechstunde mit Sandra Carstensen (MdB)
END:VEVENT
END:VCALENDAR
