BEGIN:VCALENDAR
VERSION:2.0
PRODID:-//hacksw/handcal//NONSGML v1.0//EN
BEGIN:VEVENT
DTSTAMP:20260119T170000Z
DTSTART:20260119T170000Z
DTEND:20260119T170000Z
LOCATION:Holstenhallen Congress Center (HCC), Justus-von-Liebig-Straße 2-4, Neumünster, 24537, Deutschland
SUMMARY:CDU-Generalsekretär Dr. Carsten Linnemann MdB auf "Einfach mal machen-Tour"
END:VEVENT
END:VCALENDAR
