BEGIN:VCALENDAR
VERSION:2.0
PRODID:-//hacksw/handcal//NONSGML v1.0//EN
BEGIN:VEVENT
DTSTAMP:20260927T080000Z
DTSTART:20260927T080000Z
DTEND:20260927T100000Z
LOCATION:SVT Sportklause, Süderdorfkamp 22, Neumünster, 24536, Deutschland
SUMMARY:Politischer Frühschoppen Tungendorf/Gartenstadt - September
END:VEVENT
END:VCALENDAR
