BEGIN:VCALENDAR
VERSION:2.0
PRODID:-//hacksw/handcal//NONSGML v1.0//EN
BEGIN:VEVENT
DTSTAMP:20260222T090000Z
DTSTART:20260222T090000Z
DTEND:20260222T110000Z
LOCATION:SVT Sportklause, Süderdorfkamp 22, Neumünster, 24536, Deutschland
SUMMARY:Politischer Frühschoppen Tungendorf/Gartenstadt - Februar
END:VEVENT
END:VCALENDAR
