BEGIN:VCALENDAR
VERSION:2.0
PRODID:-//hacksw/handcal//NONSGML v1.0//EN
BEGIN:VEVENT
DTSTAMP:20251212T170000Z
DTSTART:20251212T170000Z
DTEND:20251212T170000Z
LOCATION:Hotel Kühl Neumünster, Segeberger Straße 74, Neumünster, 24539, Deutschland
SUMMARY:Traditionelles Grünkohlessen der JU Neumünster
END:VEVENT
END:VCALENDAR
