BEGIN:VCALENDAR
VERSION:2.0
PRODID:-//hacksw/handcal//NONSGML v1.0//EN
BEGIN:VEVENT
DTSTAMP:20251203T170000Z
DTSTART:20251203T170000Z
DTEND:20251203T170000Z
LOCATION:Restaurant Riva, Mühlenstraße 21a, Neumünster, 24539, Deutschland
SUMMARY:Fraktion vor Ort - Mehr Gesundheit in der Schule (Hansen, Balasus)
END:VEVENT
END:VCALENDAR
