BEGIN:VCALENDAR
VERSION:2.0
PRODID:-//hacksw/handcal//NONSGML v1.0//EN
BEGIN:VEVENT
DTSTAMP:20251201T150000Z
DTSTART:20251201T150000Z
DTEND:20251201T160000Z
LOCATION:Wahlkreisbüro Hauke Hansen, Großflecken 54, Neumünster, 24534, Deutschland
SUMMARY:Bürgersprechstunde mit Hauke Hansen (MdL)
END:VEVENT
END:VCALENDAR
