BEGIN:VCALENDAR
VERSION:2.0
PRODID:-//hacksw/handcal//NONSGML v1.0//EN
BEGIN:VEVENT
DTSTAMP:20261111T173000Z
DTSTART:20261111T173000Z
DTEND:20261111T173000Z
LOCATION:Hof Voigt Tasdorf, Ohlenhof 3, Tasdorf, 24536, Deutschland
SUMMARY:Traditionelles Gänseessen der CDU Neumünster
END:VEVENT
END:VCALENDAR
