BEGIN:VCALENDAR
VERSION:2.0
PRODID:-//hacksw/handcal//NONSGML v1.0//EN
BEGIN:VEVENT
DTSTAMP:20240322T173000Z
DTSTART:20240322T173000Z
DTEND:20240322T193000Z
LOCATION:Johann & Amalie in der Stadthalle, Kleinflecken 1, Neumünster, 24534, Deutschland
SUMMARY:Diskussion des neuen CDU-Grundsatzprogramms
END:VEVENT
END:VCALENDAR
